BEGIN:VCALENDAR
VERSION:2.0
PRODID:-//The Women&#039;s Edge - ECPv6.15.18//NONSGML v1.0//EN
CALSCALE:GREGORIAN
METHOD:PUBLISH
X-WR-CALNAME:The Women&#039;s Edge
X-ORIGINAL-URL:https://thewomensedge.org
X-WR-CALDESC:Events for The Women&#039;s Edge
REFRESH-INTERVAL;VALUE=DURATION:PT1H
X-Robots-Tag:noindex
X-PUBLISHED-TTL:PT1H
BEGIN:VTIMEZONE
TZID:America/New_York
BEGIN:DAYLIGHT
TZOFFSETFROM:-0500
TZOFFSETTO:-0400
TZNAME:EDT
DTSTART:20210314T070000
END:DAYLIGHT
BEGIN:STANDARD
TZOFFSETFROM:-0400
TZOFFSETTO:-0500
TZNAME:EST
DTSTART:20211107T060000
END:STANDARD
BEGIN:DAYLIGHT
TZOFFSETFROM:-0500
TZOFFSETTO:-0400
TZNAME:EDT
DTSTART:20220313T070000
END:DAYLIGHT
BEGIN:STANDARD
TZOFFSETFROM:-0400
TZOFFSETTO:-0500
TZNAME:EST
DTSTART:20221106T060000
END:STANDARD
BEGIN:DAYLIGHT
TZOFFSETFROM:-0500
TZOFFSETTO:-0400
TZNAME:EDT
DTSTART:20230312T070000
END:DAYLIGHT
BEGIN:STANDARD
TZOFFSETFROM:-0400
TZOFFSETTO:-0500
TZNAME:EST
DTSTART:20231105T060000
END:STANDARD
END:VTIMEZONE
BEGIN:VTIMEZONE
TZID:UTC
BEGIN:STANDARD
TZOFFSETFROM:+0000
TZOFFSETTO:+0000
TZNAME:UTC
DTSTART:20210101T000000
END:STANDARD
END:VTIMEZONE
BEGIN:VEVENT
DTSTART;TZID=America/New_York:20221019T120000
DTEND;TZID=America/New_York:20221019T130000
DTSTAMP:20260419T233704
CREATED:20220930T133316Z
LAST-MODIFIED:20220930T135205Z
UID:10000018-1666180800-1666184400@thewomensedge.org
SUMMARY:Mastering Mindset: Flexing Your Resiliency Muscle
DESCRIPTION:As business women we can all agree: we’ve experienced our share of stress! If you feel personally fatigued\, more than energized\, this is a great session for you. In this practical\, hands-on time together\, we’ll cover strategies you can implement NOW so you can learn how to flex – not break – in stressful situations. Join us to work out your resiliency muscle! \nLed by: \nWendy KingRegional Director\, Health & PerformanceHUB International \n\n  \n			\n			\n				\n				\n				\n				\n			\n				\n				\n				\n				\n				\n				\n				\n				\n				\n				\n				\n				\n				\n					\n                \n				\n				\n				\n				\n				\n				\n				\n					RSVP
URL:https://thewomensedge.org/event/mastering-mindset-flexing-your-resilience-muscle/
LOCATION:Zoom
CATEGORIES:Virtual
END:VEVENT
BEGIN:VEVENT
DTSTART;TZID=America/New_York:20221017T120000
DTEND;TZID=America/New_York:20221017T133000
DTSTAMP:20260419T233704
CREATED:20220928T232215Z
LAST-MODIFIED:20221007T183121Z
UID:10000017-1666008000-1666013400@thewomensedge.org
SUMMARY:Impact Study Roundtable: Creating Formal Sponsorship Programs
DESCRIPTION:The Women’s Leadership Impact Study roundtables zero in on specific topics from our 2022 report and examine advancement strategies that have proven successful in Massachusetts companies. These sessions are facilitated by leaders who are “walking the walk” to effectively further gender and racial equity in their companies and the business community. \nRoundtable: Creating Formal Sponsorship Programs \nJoin us as we discuss the difference between sponsorship and mentorship\, learn how to structure formal sponsorship programs\, and share personal experiences with sponsorships. \nLed by: \nPallavi VermaSenior Managing DirectorAccenture \n			\n			\n				\n				\n				\n				\n			\n				\n				\n				\n				\n				\n				\n				\n				\n				\n				\n				\n				\n				\n					\n                \n				\n				\n				\n				\n				\n				\n				\n					RSVP
URL:https://thewomensedge.org/event/impact-study-roundtable-creating-formal-sponsorship-programs/
LOCATION:Zoom
CATEGORIES:Virtual
ATTACH;FMTTYPE=image/svg+xml:https://thewomensedge.org/wp-content/uploads/2022/05/WE_WomenLeadership_Color.svg
END:VEVENT
BEGIN:VEVENT
DTSTART;TZID=America/New_York:20220914T173000
DTEND;TZID=America/New_York:20220914T193000
DTSTAMP:20260419T233704
CREATED:20220810T180450Z
LAST-MODIFIED:20220810T180450Z
UID:10000009-1663176600-1663183800@thewomensedge.org
SUMMARY:TCI's 25th Anniversary Celebration - FL
DESCRIPTION:Be our guest in celebrating TCI’s evolution\, honoring our continued commitment to advancing women leaders. Join us for cocktails and networking\, as we remember where we’ve been and look ahead to where we’re going.  Don’t miss our BIG announcement about the future of TCI! \nRegistration is complimentary but you MUST RSVP to attend!
URL:https://thewomensedge.org/event/tcis-25th-anniversary-celebration-fl/
LOCATION:Greenberg Traurig\, Wells Fargo Center\, 333 SE 2nd Ave #4400\, Miami\, FL\, 33131
CATEGORIES:In-person
ATTACH;FMTTYPE=image/png:https://thewomensedge.org/wp-content/uploads/2022/08/FL_25th-Anniversary-new-website-graphic.png
END:VEVENT
BEGIN:VEVENT
DTSTART;TZID=America/New_York:20220914T173000
DTEND;TZID=America/New_York:20220914T193000
DTSTAMP:20260419T233704
CREATED:20220810T174738Z
LAST-MODIFIED:20220810T175620Z
UID:10000008-1663176600-1663183800@thewomensedge.org
SUMMARY:TCI's 25th Anniversary Celebration - MA
DESCRIPTION:Be our guest in celebrating TCI’s evolution\, honoring our continued commitment to advancing women leaders. Join us for cocktails and networking\, as we remember where we’ve been and look ahead to where we’re going.  Don’t miss our BIG announcement about the future of TCI! \nRegistration is complimentary but you MUST RSVP to attend!
URL:https://thewomensedge.org/event/tcis-25th-anniversary-celebration/
LOCATION:PwC\, 101 Seaport Blvd\, Boston\, MA
CATEGORIES:In-person
ATTACH;FMTTYPE=image/png:https://thewomensedge.org/wp-content/uploads/2022/08/25th-Anniversary-new-website-graphic.png
END:VEVENT
BEGIN:VEVENT
DTSTART;TZID=UTC:20220614T113000
DTEND;TZID=UTC:20220614T113000
DTSTAMP:20260419T233704
CREATED:20220526T173556Z
LAST-MODIFIED:20220606T124207Z
UID:10000006-1655206200-1655206200@thewomensedge.org
SUMMARY:Top 100 Women-Led Businesses in Florida
DESCRIPTION:The Commonwealth Institute-Florida and Kaufman Rossin are pleased to announce the 2022 edition of the Top 100 Women-Led Businesses in Florida list. 2022 marks TCI-FL’s 17th year recognizing the women power players driving the Florida economy. Past honorees have come from fields ranging from healthcare to travel\, illustrating the diversity of women-led organizations across Florida. We look forward to announcing the list of dynamic women leaders on June 14\, 2022!
URL:https://thewomensedge.org/event/top-100-women-led-businesses-in-florida/
LOCATION:Hyatt Regency Miami\, 400 SE 2nd Avenue\, Miami\, FL\, 3313
CATEGORIES:In-person
ATTACH;FMTTYPE=image/png:https://thewomensedge.org/wp-content/uploads/2022/05/Homepage-Community.png
END:VEVENT
END:VCALENDAR