BEGIN:VCALENDAR
VERSION:2.0
PRODID:-//The Women&#039;s Edge - ECPv6.15.18//NONSGML v1.0//EN
CALSCALE:GREGORIAN
METHOD:PUBLISH
X-WR-CALNAME:The Women&#039;s Edge
X-ORIGINAL-URL:https://thewomensedge.org
X-WR-CALDESC:Events for The Women&#039;s Edge
REFRESH-INTERVAL;VALUE=DURATION:PT1H
X-Robots-Tag:noindex
X-PUBLISHED-TTL:PT1H
BEGIN:VTIMEZONE
TZID:America/New_York
BEGIN:DAYLIGHT
TZOFFSETFROM:-0500
TZOFFSETTO:-0400
TZNAME:EDT
DTSTART:20220313T070000
END:DAYLIGHT
BEGIN:STANDARD
TZOFFSETFROM:-0400
TZOFFSETTO:-0500
TZNAME:EST
DTSTART:20221106T060000
END:STANDARD
BEGIN:DAYLIGHT
TZOFFSETFROM:-0500
TZOFFSETTO:-0400
TZNAME:EDT
DTSTART:20230312T070000
END:DAYLIGHT
BEGIN:STANDARD
TZOFFSETFROM:-0400
TZOFFSETTO:-0500
TZNAME:EST
DTSTART:20231105T060000
END:STANDARD
BEGIN:DAYLIGHT
TZOFFSETFROM:-0500
TZOFFSETTO:-0400
TZNAME:EDT
DTSTART:20240310T070000
END:DAYLIGHT
BEGIN:STANDARD
TZOFFSETFROM:-0400
TZOFFSETTO:-0500
TZNAME:EST
DTSTART:20241103T060000
END:STANDARD
END:VTIMEZONE
BEGIN:VEVENT
DTSTART;TZID=America/New_York:20230523T120000
DTEND;TZID=America/New_York:20230523T130000
DTSTAMP:20260420T021144
CREATED:20230405T134553Z
LAST-MODIFIED:20230405T135021Z
UID:10000032-1684843200-1684846800@thewomensedge.org
SUMMARY:Lunch & Learn: Communication Strategies for Greater Impact and Influence Building
DESCRIPTION:Communication is the basis of all relationships\, and it becomes your most valuable asset as you progress in the professional world. Effective communication is critical for leaders\, yet many are making communication mistakes that affect their ability to build relationships and influence others. How would you rate the effectiveness of your communication? Is your communication being received in the way you intend? In this workshop we’ll discover the barriers that are potentially preventing you from communicating effectively and how eliminating them can lead to successful conversations and better outcomes. \nLed by:\nSarah Gillet Couto\nInternational Leadership Coach and CEO of Gillet Couto Consulting
URL:https://thewomensedge.org/event/lunch-learn-communication-strategies-for-greater-impact-and-influence-building/
LOCATION:Zoom
CATEGORIES:Virtual
ORGANIZER;CN="Naz De La Rosa":MAILTO:ndelarosa@thewomensedge.org
END:VEVENT
END:VCALENDAR