BEGIN:VCALENDAR
VERSION:2.0
PRODID:-//The Women&#039;s Edge - ECPv6.15.18//NONSGML v1.0//EN
CALSCALE:GREGORIAN
METHOD:PUBLISH
X-ORIGINAL-URL:https://thewomensedge.org
X-WR-CALDESC:Events for The Women&#039;s Edge
REFRESH-INTERVAL;VALUE=DURATION:PT1H
X-Robots-Tag:noindex
X-PUBLISHED-TTL:PT1H
BEGIN:VTIMEZONE
TZID:America/New_York
BEGIN:DAYLIGHT
TZOFFSETFROM:-0500
TZOFFSETTO:-0400
TZNAME:EDT
DTSTART:20220313T070000
END:DAYLIGHT
BEGIN:STANDARD
TZOFFSETFROM:-0400
TZOFFSETTO:-0500
TZNAME:EST
DTSTART:20221106T060000
END:STANDARD
BEGIN:DAYLIGHT
TZOFFSETFROM:-0500
TZOFFSETTO:-0400
TZNAME:EDT
DTSTART:20230312T070000
END:DAYLIGHT
BEGIN:STANDARD
TZOFFSETFROM:-0400
TZOFFSETTO:-0500
TZNAME:EST
DTSTART:20231105T060000
END:STANDARD
BEGIN:DAYLIGHT
TZOFFSETFROM:-0500
TZOFFSETTO:-0400
TZNAME:EDT
DTSTART:20240310T070000
END:DAYLIGHT
BEGIN:STANDARD
TZOFFSETFROM:-0400
TZOFFSETTO:-0500
TZNAME:EST
DTSTART:20241103T060000
END:STANDARD
END:VTIMEZONE
BEGIN:VEVENT
DTSTART;TZID=America/New_York:20230419T110000
DTEND;TZID=America/New_York:20230419T120000
DTSTAMP:20260420T040900
CREATED:20230329T154534Z
LAST-MODIFIED:20230329T155154Z
UID:10000031-1681902000-1681905600@thewomensedge.org
SUMMARY:2023 Women’s Leadership in FL Impact Study Results Reveal
DESCRIPTION:Join The Women’s Edge and Florida business leaders as we reveal the results of our 2nd Annual Women’s Leadership Development Impact Study! \nJoin us on April 19th for a special webinar with area leaders and featuring the results of our Women’s Leadership Impact Study. Learn about the Roadmap for Success – our data-backed recommendations to ensure the successful development\, retention\, and advancement of all women leaders. \nRegistration is complimentary! We look forward to seeing you there. \n  \nThank you to our Study sponsors! \n \n \n  \n 
URL:https://thewomensedge.org/event/2023-womens-leadership-in-fl-impact-study-results-reveal/
LOCATION:Zoom
CATEGORIES:Virtual
ATTACH;FMTTYPE=image/png:https://thewomensedge.org/wp-content/uploads/2023/03/WLIS-logo-e1680104831633.png
ORGANIZER;CN="Naz De La Rosa":MAILTO:ndelarosa@thewomensedge.org
END:VEVENT
END:VCALENDAR