BEGIN:VCALENDAR
VERSION:2.0
PRODID:-//The Women&#039;s Edge - ECPv6.15.18//NONSGML v1.0//EN
CALSCALE:GREGORIAN
METHOD:PUBLISH
X-ORIGINAL-URL:https://thewomensedge.org
X-WR-CALDESC:Events for The Women&#039;s Edge
REFRESH-INTERVAL;VALUE=DURATION:PT1H
X-Robots-Tag:noindex
X-PUBLISHED-TTL:PT1H
BEGIN:VTIMEZONE
TZID:America/New_York
BEGIN:DAYLIGHT
TZOFFSETFROM:-0500
TZOFFSETTO:-0400
TZNAME:EDT
DTSTART:20230312T070000
END:DAYLIGHT
BEGIN:STANDARD
TZOFFSETFROM:-0400
TZOFFSETTO:-0500
TZNAME:EST
DTSTART:20231105T060000
END:STANDARD
BEGIN:DAYLIGHT
TZOFFSETFROM:-0500
TZOFFSETTO:-0400
TZNAME:EDT
DTSTART:20240310T070000
END:DAYLIGHT
BEGIN:STANDARD
TZOFFSETFROM:-0400
TZOFFSETTO:-0500
TZNAME:EST
DTSTART:20241103T060000
END:STANDARD
BEGIN:DAYLIGHT
TZOFFSETFROM:-0500
TZOFFSETTO:-0400
TZNAME:EDT
DTSTART:20250309T070000
END:DAYLIGHT
BEGIN:STANDARD
TZOFFSETFROM:-0400
TZOFFSETTO:-0500
TZNAME:EST
DTSTART:20251102T060000
END:STANDARD
END:VTIMEZONE
BEGIN:VEVENT
DTSTART;TZID=America/New_York:20241114T073000
DTEND;TZID=America/New_York:20241114T100000
DTSTAMP:20260419T121744
CREATED:20240827T150302Z
LAST-MODIFIED:20250310T155155Z
UID:10000082-1731569400-1731578400@thewomensedge.org
SUMMARY:2024 Women's Leadership in MA Impact Study Results Reveal
DESCRIPTION:Join The Women’s Edge and Massachusetts business leaders as we reveal the results of our 6th Annual Women’s Leadership Development Impact Study! \nJoin us on November 14th for a town hall format conversation with area leaders\, featuring the results of our Women’s Leadership Impact Study. Learn about the Roadmap for Success – our data-backed recommendations to ensure the successful development\, retention\, and advancement of all women leaders. \nThis lively discussion will be accompanied by a light breakfast and time for networking. Registration is complimentary! We look forward to seeing you there. \n			\n			\n				\n				\n				\n				\n			\n				\n				\n			\n				\n				\n				\n				\n				\n				\n				\n				\n				\n				\n				\n				\n				\n				\n				\n				\n				\n				Speakers\n			\n			\n				\n				\n				\n				\n			\n				\n				\n				\n				\n				\n				\n				\n				\n				\n				\n				\n			\n			\n				\n				\n				\n				\n				\n				\n				\n				\n				\n				Javier Barrientos\n\nChief Diversity\, Equity and Inclusion OfficerPoint32Health \n\n			\n			\n				\n				\n				\n				\n				\n				\n				\n				\n				\n				\n			\n			\n				\n				\n				\n				\n				\n				\n				\n				\n				\n				JD Chesloff\nPresident & CEOMassachusetts Business Roundtable \n  \n			\n			\n				\n				\n				\n				\n			\n				\n				\n				\n				\n				\n				\n			\n				\n				\n				\n				\n				\n			\n				\n				\n				\n				\n			\n				\n				\n				\n				\n				\n				\n				\n				\n				\n				\n				\n			\n			\n				\n				\n				\n				\n				\n				\n				\n				\n				\n				Dr. Shirley Knowles\nChief Inclusion and Diversity OfficerProgress \n  \n			\n			\n				\n				\n				\n				\n				\n				\n				\n				\n				\n				\n			\n			\n				\n				\n				\n				\n				\n				\n				\n				\n				\n				Brooke Thomson\nPresident & CEOAssociated Industries of Massachusetts \n			\n			\n				\n				\n				\n				\n			\n				\n				\n				\n				\n				\n				\n			\n				\n				\n				\n				\n				\n			\n				\n				\n				\n				\n			\n				\n				\n				\n				\n				\n				\n				\n				\n				\n				\n				\n			\n			\n				\n				\n				\n				\n				\n				\n				\n				\n				\n				Trish Foster\nDE&I Change Agent\nReport Writer\, Moderator\n			\n			\n				\n				\n				\n				\n				\n			\n				\n				\n				\n				\n				\n			\n				\n				\n				\n				\n			\n				\n				\n			\n				\n				\n				\n				\n				\n				\n				\n				\n				\n				\n				\n				\n				\n				\n				\n				\n				\n				Research Sponsors
URL:https://thewomensedge.org/event/2024-womens-leadership-in-ma-impact-study-results-reveal/
LOCATION:The Studio\, 2 SEAPORT LN\, Boston\, MA\, 02210\, United States
CATEGORIES:In-person
ATTACH;FMTTYPE=image/svg+xml:https://thewomensedge.org/wp-content/uploads/2022/05/WE_WomenLeadership_Color.svg
ORGANIZER;CN="Lizzie Dunklee":MAILTO:ldunklee@thewomensedge.org
END:VEVENT
END:VCALENDAR