BEGIN:VCALENDAR
VERSION:2.0
PRODID:-//The Women&#039;s Edge - ECPv6.15.18//NONSGML v1.0//EN
CALSCALE:GREGORIAN
METHOD:PUBLISH
X-WR-CALNAME:The Women&#039;s Edge
X-ORIGINAL-URL:https://thewomensedge.org
X-WR-CALDESC:Events for The Women&#039;s Edge
REFRESH-INTERVAL;VALUE=DURATION:PT1H
X-Robots-Tag:noindex
X-PUBLISHED-TTL:PT1H
BEGIN:VTIMEZONE
TZID:America/New_York
BEGIN:DAYLIGHT
TZOFFSETFROM:-0500
TZOFFSETTO:-0400
TZNAME:EDT
DTSTART:20220313T070000
END:DAYLIGHT
BEGIN:STANDARD
TZOFFSETFROM:-0400
TZOFFSETTO:-0500
TZNAME:EST
DTSTART:20221106T060000
END:STANDARD
BEGIN:DAYLIGHT
TZOFFSETFROM:-0500
TZOFFSETTO:-0400
TZNAME:EDT
DTSTART:20230312T070000
END:DAYLIGHT
BEGIN:STANDARD
TZOFFSETFROM:-0400
TZOFFSETTO:-0500
TZNAME:EST
DTSTART:20231105T060000
END:STANDARD
BEGIN:DAYLIGHT
TZOFFSETFROM:-0500
TZOFFSETTO:-0400
TZNAME:EDT
DTSTART:20240310T070000
END:DAYLIGHT
BEGIN:STANDARD
TZOFFSETFROM:-0400
TZOFFSETTO:-0500
TZNAME:EST
DTSTART:20241103T060000
END:STANDARD
END:VTIMEZONE
BEGIN:VEVENT
DTSTART;TZID=America/New_York:20230404T073000
DTEND;TZID=America/New_York:20230404T100000
DTSTAMP:20260420T200250
CREATED:20230306T204907Z
LAST-MODIFIED:20230403T154515Z
UID:10000028-1680593400-1680602400@thewomensedge.org
SUMMARY:2023 Women's Leadership in MA Impact Study Results Reveal
DESCRIPTION:Join The Women’s Edge and Massachusetts business leaders as we reveal the results of our 5th Annual Women’s Leadership Development Impact Study! \nJoin us on April 4th for a town hall format conversation with area leaders\, featuring the results of our Women’s Leadership Impact Study. Learn about the Roadmap for Success – our data-backed recommendations to ensure the successful development\, retention\, and advancement of all women leaders. \nThis lively discussion will be accompanied by a light breakfast and time for networking. Registration is complimentary! We look forward to seeing you there. \n			\n			\n				\n				\n				\n				\n			\n				\n				\n				\n				\n				\n				\n				\n				\n				\n				\n				Please RSVP for the event below. \n			\n			\n				\n				\n				\n				\n				\n				\n				\n				\n				\n				Schedule \n7:30-8:00 AM – Registration\, Networking & Continental Breakfast8:00-8:30 AM – Welcome Remarks and Data Review8:30-10:00 AM – Panel Discussion \n			\n			\n				\n				\n				\n				\n			\n				\n				\n			\n				\n				\n				\n				\n				\n				\n				\n				\n				\n				\n				\n				\n				\n				\n				\n				\n				\n				Speakers\n			\n			\n				\n				\n				\n				\n			\n				\n				\n				\n				\n				\n				\n				\n				\n				\n				\n				Welcome remarks from our Presenting Sponsor \n			\n			\n				\n				\n				\n				\n				\n			\n				\n				\n				\n				\n			\n				\n				\n				\n				\n				\n				\n				\n				\n				\n				\n				\n			\n			\n				\n				\n				\n				\n				\n				\n				\n				\n				\n				Dawn Frazier-Bohnert\nEVP\, Global Diversity\, Equity & Inclusion OfficerLiberty Mutual Insurance \n			\n			\n				\n				\n				\n				\n				\n				\n				\n				\n				\n				\n			\n			\n				\n				\n				\n				\n				\n				\n				\n				\n				\n				Jay Ash\nPresident & CEOMassachusetts Competitive Partnership \n  \n			\n			\n				\n				\n				\n				\n			\n				\n				\n				\n				\n				\n				\n			\n				\n				\n				\n				\n				\n			\n				\n				\n				\n				\n			\n				\n				\n				\n				\n				\n				\n				\n				\n				\n				\n				\n			\n			\n				\n				\n				\n				\n				\n				\n				\n				\n				\n				Tricia Canavan\nCEOTech Foundry \n  \n			\n			\n				\n				\n				\n				\n				\n				\n				\n				\n				\n				\n			\n			\n				\n				\n				\n				\n				\n				\n				\n				\n				\n				Brenna Jones\nSr. Vice President\, Chief Human Resources OfficerAmerican Tower \n			\n			\n				\n				\n				\n				\n			\n				\n				\n				\n				\n				\n				\n			\n				\n				\n				\n				\n				\n			\n				\n				\n				\n				\n			\n				\n				\n				\n				\n				\n				\n				\n				\n				\n				\n				\n			\n			\n				\n				\n				\n				\n				\n				\n				\n				\n				\n				Trish Foster\nDE&I Change AgentReport Writer\, Moderator \n			\n			\n				\n				\n				\n				\n				\n			\n				\n				\n				\n				\n				\n			\n				\n				\n				\n				\n			\n				\n				\n			\n				\n				\n				\n				\n				\n				\n				\n				\n				\n				\n				\n				\n				\n				\n				\n				\n				\n				Research Sponsors
URL:https://thewomensedge.org/event/impact-study-ma-results-reveal/
LOCATION:District Hall Boston\, 75 Northern Ave\, Boston\, MA\, 02210
CATEGORIES:In-person
ATTACH;FMTTYPE=image/svg+xml:https://thewomensedge.org/wp-content/uploads/2022/05/WE_WomenLeadership_Color.svg
ORGANIZER;CN="Lizzie Dunklee":MAILTO:ldunklee@thewomensedge.org
END:VEVENT
END:VCALENDAR