BEGIN:VCALENDAR
VERSION:2.0
PRODID:-//The Women&#039;s Edge - ECPv6.15.18//NONSGML v1.0//EN
CALSCALE:GREGORIAN
METHOD:PUBLISH
X-ORIGINAL-URL:https://thewomensedge.org
X-WR-CALDESC:Events for The Women&#039;s Edge
REFRESH-INTERVAL;VALUE=DURATION:PT1H
X-Robots-Tag:noindex
X-PUBLISHED-TTL:PT1H
BEGIN:VTIMEZONE
TZID:America/New_York
BEGIN:DAYLIGHT
TZOFFSETFROM:-0500
TZOFFSETTO:-0400
TZNAME:EDT
DTSTART:20230312T070000
END:DAYLIGHT
BEGIN:STANDARD
TZOFFSETFROM:-0400
TZOFFSETTO:-0500
TZNAME:EST
DTSTART:20231105T060000
END:STANDARD
BEGIN:DAYLIGHT
TZOFFSETFROM:-0500
TZOFFSETTO:-0400
TZNAME:EDT
DTSTART:20240310T070000
END:DAYLIGHT
BEGIN:STANDARD
TZOFFSETFROM:-0400
TZOFFSETTO:-0500
TZNAME:EST
DTSTART:20241103T060000
END:STANDARD
BEGIN:DAYLIGHT
TZOFFSETFROM:-0500
TZOFFSETTO:-0400
TZNAME:EDT
DTSTART:20250309T070000
END:DAYLIGHT
BEGIN:STANDARD
TZOFFSETFROM:-0400
TZOFFSETTO:-0500
TZNAME:EST
DTSTART:20251102T060000
END:STANDARD
END:VTIMEZONE
BEGIN:VEVENT
DTSTART;TZID=America/New_York:20240509T120000
DTEND;TZID=America/New_York:20240509T140000
DTSTAMP:20260419T204019
CREATED:20231213T185934Z
LAST-MODIFIED:20240507T125909Z
UID:10000054-1715256000-1715263200@thewomensedge.org
SUMMARY:2024 Top 100 Women-Led Businesses in Florida Awards Luncheon
DESCRIPTION:The Women’s Edge is pleased to announce the 2024 edition of the Top 100 Women-Led Businesses in Florida list. \nThe ranked list will be revealed at our awards luncheon on Thursday\, May 9\, 2024 at Le Meridien in Dania Beach\, FL. Registration and Networking will begin at 11:30AM followed by the Awards Luncheon at 12:00PM. \nClick here to see this year’s list of honorees. \nThank you to our sponsors!
URL:https://thewomensedge.org/event/2024top100florida/
LOCATION:LeMeridien Dania Beach\, 1825 Griffin Road\, Dania Beach\, Florida\, 33004
CATEGORIES:In-person
ATTACH;FMTTYPE=image/svg+xml:https://thewomensedge.org/wp-content/uploads/2022/12/Top-100-FL-Web-Ft-Image.svg
END:VEVENT
BEGIN:VEVENT
DTSTART;TZID=America/New_York:20240516T073000
DTEND;TZID=America/New_York:20240516T100000
DTSTAMP:20260419T204019
CREATED:20240315T165046Z
LAST-MODIFIED:20240509T133919Z
UID:10000060-1715844600-1715853600@thewomensedge.org
SUMMARY:8th Annual Town Hall
DESCRIPTION:Our 8th Annual Town Hall: Leading Through Extraordinary Times is a unique opportunity to discuss top-of-mind issues with Massachusetts business leaders spanning media\, education\, technology\, healthcare\, and finance. \nThis lively gathering brings together prominent Massachusetts leaders\, representing various sectors\, to engage in insightful discussion\, share perspectives\, and foster meaningful connections. We’ll delve into key business trends\, innovative strategies\, and critical challenges facing companies. With a diverse lineup of esteemed panelists\, this event promises to deliver valuable insights and actionable takeaways. \nThe conversation will be led by you! Network over breakfast and consider the questions that have been on your mind. You’ll have the opportunity to pose your most pressing questions directly to our panel. This is your chance to drive the conversation\, gain insights from industry experts\, and contribute to the collective wisdom of our business community. \n			\n			\n				\n				\n				\n				\n			\n				\n				\n				\n				\n				\n				\n				\n				\n				\n				\n				Featured Leaders\n			\n			\n				\n				\n				\n				\n			\n				\n				\n				\n				\n				\n				\n				\n				\n				\n				\n				\n			\n			\n				\n				\n				\n				\n				\n				\n				\n				\n				\n				Hilina D. Ajakaiye\nExecutive Vice PresidentMeet BostonREAD BIO   \n			\n			\n				\n				\n				\n				\n				\n				\n				\n				\n				\n				\n			\n			\n				\n				\n				\n				\n				\n				\n				\n				\n				\n				Tye Brady\nChief TechnologistAmazon RoboticsREAD BIO   \n			\n			\n				\n				\n				\n				\n			\n				\n				\n				\n				\n				\n				\n			\n				\n				\n				\n				\n				\n			\n				\n				\n				\n				\n			\n				\n				\n				\n				\n				\n				\n				\n				\n				\n				\n				\n			\n			\n				\n				\n				\n				\n				\n				\n				\n				\n				\n				Julie Chen\nChancellorUMass LowellREAD BIO   \n			\n			\n				\n				\n				\n				\n				\n				\n				\n				\n				\n				\n			\n			\n				\n				\n				\n				\n				\n				\n				\n				\n				\n				Kevin McGovern\nManaging PartnerDeloitteREAD BIO   \n			\n			\n				\n				\n				\n				\n			\n				\n				\n				\n				\n				\n				\n			\n				\n				\n				\n				\n				\n			\n				\n				\n				\n				\n				\n			\n				\n				\n				\n				\n			\n				\n				\n				\n				\n				\n				\n			\n				\n				\n				\n				\n				\n			\n				\n				\n				\n				\n				\n				\n				\n				\n				\n				\n			\n			\n				\n				\n				\n				\n				\n				\n				\n				\n				\n				Janet Wu\nAnchor/ReporterMODERATORREAD BIO   \n			\n			\n				\n				\n				\n				\n			\n				\n				\n			\n				\n				\n				\n				\n				\n				\n				\n				\n				\n				\n				\n				\n				\n				\n				\n				\n				\n				Thank you to our sponsors!
URL:https://thewomensedge.org/event/8th-annual-town-hall/
LOCATION:Seaport Hotel Boston\, 1 Seaport Ln\, Boston\, MA\, 02210
CATEGORIES:In-person
ATTACH;FMTTYPE=image/svg+xml:https://thewomensedge.org/wp-content/uploads/2022/05/WE_TownHall_Color.svg
END:VEVENT
END:VCALENDAR