BEGIN:VCALENDAR
VERSION:2.0
PRODID:-//The Women&#039;s Edge - ECPv6.15.18//NONSGML v1.0//EN
CALSCALE:GREGORIAN
METHOD:PUBLISH
X-WR-CALNAME:The Women&#039;s Edge
X-ORIGINAL-URL:https://thewomensedge.org
X-WR-CALDESC:Events for The Women&#039;s Edge
REFRESH-INTERVAL;VALUE=DURATION:PT1H
X-Robots-Tag:noindex
X-PUBLISHED-TTL:PT1H
BEGIN:VTIMEZONE
TZID:America/New_York
BEGIN:DAYLIGHT
TZOFFSETFROM:-0500
TZOFFSETTO:-0400
TZNAME:EDT
DTSTART:20230312T070000
END:DAYLIGHT
BEGIN:STANDARD
TZOFFSETFROM:-0400
TZOFFSETTO:-0500
TZNAME:EST
DTSTART:20231105T060000
END:STANDARD
BEGIN:DAYLIGHT
TZOFFSETFROM:-0500
TZOFFSETTO:-0400
TZNAME:EDT
DTSTART:20240310T070000
END:DAYLIGHT
BEGIN:STANDARD
TZOFFSETFROM:-0400
TZOFFSETTO:-0500
TZNAME:EST
DTSTART:20241103T060000
END:STANDARD
BEGIN:DAYLIGHT
TZOFFSETFROM:-0500
TZOFFSETTO:-0400
TZNAME:EDT
DTSTART:20250309T070000
END:DAYLIGHT
BEGIN:STANDARD
TZOFFSETFROM:-0400
TZOFFSETTO:-0500
TZNAME:EST
DTSTART:20251102T060000
END:STANDARD
END:VTIMEZONE
BEGIN:VEVENT
DTSTART;TZID=America/New_York:20240328T180000
DTEND;TZID=America/New_York:20240328T200000
DTSTAMP:20260419T235555
CREATED:20240228T221737Z
LAST-MODIFIED:20240311T164201Z
UID:10000061-1711648800-1711656000@thewomensedge.org
SUMMARY:In Conversation with Colette Phillips
DESCRIPTION:Join us March 28th for an evening conversation with Colette Phillips around her recently released book\, The Includers: The 7 Traits of Culturally Savvy\, Anti-Racist Leaders. Learn actionable tools and principles to guide your inclusive leadership style and drive lasting institutional and community-wide change. \n“The Includers is the thoughtful\, tactical guide we all need to better understand and practice allyship and create a strong organizational culture.” —Sam Kennedy\, president and CEO of the Boston Red Sox \n			\n			\n				\n				\n				\n				\n			\n				\n				\n				\n				\n				\n				\n			\n				\n				\n				\n				\n			\n				\n				\n				\n				\n				\n				\n				\n				\n				\n				\n				\n			\n			\n				\n				\n				\n				\n				\n				\n				\n				\n				\n				Colette Phillips\nCEO\, Colette Phillips Communications\, Inc.Founder & President\, The GK Fund and Get Konnected! \nREAD BIO   \n			\n			\n				\n				\n				\n				\n				\n				\n				\n				\n				\n				\n			\n			\n				\n				\n				\n				\n			\n				\n				\n				\n				\n				\n				\n			\n				\n				\n				\n				\n			\n				\n				\n				\n				\n				\n				\n				\n				\n				\n				\n				Facilitated by\n			\n			\n				\n				\n				\n				\n			\n				\n				\n				\n				\n				\n				\n				\n				\n				\n				\n				\n			\n			\n				\n				\n				\n				\n				\n				\n				\n				\n				\n				Shirley Leung\nBusiness Columnist\, Associate Editor\, & Podcast HostThe Boston Globe \n			\n			\n				\n				\n				\n				\n				\n				\n				\n				\n				\n				\n			\n			\n				\n				\n				\n				\n				\n				\n				\n				\n				\n				Pam Reeve\nChair\, Board of DirectorsThe Women’s Edge \n \n			\n			\n				\n				\n				\n				\n			\n				\n				\n				\n				\n				\n				\n			\n				\n				\n				\n				\n			\n				\n				\n				\n				\n				\n				\n				\n				\n				\n				\n				Thank you to our sponsors!
URL:https://thewomensedge.org/event/in-conversation-with-colette-phillips/
LOCATION:PwC\, 101 Seaport Blvd\, Boston\, MA
CATEGORIES:In-person
ATTACH;FMTTYPE=image/svg+xml:https://thewomensedge.org/wp-content/uploads/2022/05/WE_InConversation_Color.svg
END:VEVENT
END:VCALENDAR