BEGIN:VCALENDAR
VERSION:2.0
PRODID:-//The Women&#039;s Edge - ECPv6.15.18//NONSGML v1.0//EN
CALSCALE:GREGORIAN
METHOD:PUBLISH
X-ORIGINAL-URL:https://thewomensedge.org
X-WR-CALDESC:Events for The Women&#039;s Edge
REFRESH-INTERVAL;VALUE=DURATION:PT1H
X-Robots-Tag:noindex
X-PUBLISHED-TTL:PT1H
BEGIN:VTIMEZONE
TZID:America/New_York
BEGIN:DAYLIGHT
TZOFFSETFROM:-0500
TZOFFSETTO:-0400
TZNAME:EDT
DTSTART:20220313T070000
END:DAYLIGHT
BEGIN:STANDARD
TZOFFSETFROM:-0400
TZOFFSETTO:-0500
TZNAME:EST
DTSTART:20221106T060000
END:STANDARD
BEGIN:DAYLIGHT
TZOFFSETFROM:-0500
TZOFFSETTO:-0400
TZNAME:EDT
DTSTART:20230312T070000
END:DAYLIGHT
BEGIN:STANDARD
TZOFFSETFROM:-0400
TZOFFSETTO:-0500
TZNAME:EST
DTSTART:20231105T060000
END:STANDARD
BEGIN:DAYLIGHT
TZOFFSETFROM:-0500
TZOFFSETTO:-0400
TZNAME:EDT
DTSTART:20240310T070000
END:DAYLIGHT
BEGIN:STANDARD
TZOFFSETFROM:-0400
TZOFFSETTO:-0500
TZNAME:EST
DTSTART:20241103T060000
END:STANDARD
END:VTIMEZONE
BEGIN:VEVENT
DTSTART;TZID=America/New_York:20231102T120000
DTEND;TZID=America/New_York:20231102T140000
DTSTAMP:20260420T063722
CREATED:20230616T180717Z
LAST-MODIFIED:20231031T205859Z
UID:10000042-1698926400-1698933600@thewomensedge.org
SUMMARY:Leadership Live 2023 Featuring Ellen Latham\, Creator & Co-Founder of Orangetheory Fitness
DESCRIPTION:Our signature Leadership Live event engages attendees in an intimate conversation with a high-profile leader or local personality. Moderated by Katie Kempner\, Founder of Kempner Communications and Host of Perspectives with Katie Kempner\, Leadership Live gives attendees the opportunity to ask questions on topics like lessons learned\, secrets to success\, and how to navigate the obstacles that are unique to women in leadership. \nThis year\, The Women’s Edge is proud to welcome Ellen Latham\, Creator & Co-Founder of the Orangetheory Fitness Franchise\, as this year’s special Leadership Live speaker! \nEllen is a highly trained physiologist with a lifelong passion for health and fitness. With more than 40 years in the fitness industry\, Ellen Latham\, M.S.\, has built a billion-dollar brand out of a lifelong passion. In 2010\, Ellen co-founded Orangetheory Fitness\, an international franchise. As of 2023\, Orangetheory Fitness has over 1\,500 studios throughout 50 US states and 24 countries. Forbes named Orangetheory one of “The Fastest Growing Woman-Owned Businesses” in 2017\, and it has been recognized by Entrepreneur Magazine\, Inc.\, Bloomberg\, and the New York Times for its disruptive science-backed exercise concept. As of 2020\, OTF had built their membership to over one million members. \nDon’t miss your chance to meet Ellen in person and hear her inspiring story! \nEllen Latham\, M.S. Keynote Speaker Creator & Co-Founder of Orangetheory Fitness Franchise\, Innovator & Author \n  \nSponsored by: \n \n  \n			\n			\n				\n				\n				\n				\n			\n				\n				\n				\n				\n				\n				\n				\n				\n				\n				\n				\n				\n				\n					\n                \n				\n				\n				\n				\n				\n				\n				\n					Learn More
URL:https://thewomensedge.org/event/leadershiplive2023/
LOCATION:Signature Grand\, 6900 W. State Road 84\, Davie\, Florida\, 33317
CATEGORIES:In-person
ATTACH;FMTTYPE=image/svg+xml:https://thewomensedge.org/wp-content/uploads/2022/05/WE_LeadershipLive_Color.svg
END:VEVENT
BEGIN:VEVENT
DTSTART;TZID=America/New_York:20231103T073000
DTEND;TZID=America/New_York:20231103T100000
DTSTAMP:20260420T063722
CREATED:20230215T192426Z
LAST-MODIFIED:20240917T164649Z
UID:10000024-1698996600-1699005600@thewomensedge.org
SUMMARY:2023 Top 100 Women-Led Businesses in Massachusetts
DESCRIPTION:The Women’s Edge and Boston Globe Magazine are pleased to announce the 2023 edition of the Top 100 Women-Led Businesses in Massachusetts list. 2023 marks our 23rd year recognizing the women power players driving the Massachusetts economy. \nJoin us November 3rd to honor the Top 100 businesses\, and hear from keynote speaker\, Lisa Sun\, Founder & CEO of GRAVITAS! See below for more details. \n View the alphabetical 2023 Top 100 Women-Led Businesses in Massachusetts list here.  \nThe ranked list will be revealed at our awards breakfast on Friday\, November 3rd and published in the November 5th Women & Power issue of the Boston Globe Magazine.  \n			\n				\n				\n				\n				\n				\n				\n				\n					\n                \n				\n				\n				\n				\n				\n				\n				\n					Learn More\n				\n			\n            \n				\n			\n				\n				\n				\n				\n				Sponsorship opportunities are available! \n			\n			\n				\n				\n				\n				\n			\n				\n				\n				\n				\n				\n				\n				\n				\n				\n				\n				\n			\n			\n				\n				\n				\n				\n				\n				\n				\n				\n				\n				KEYNOTE SPEAKER \nLisa Sun\nFounder & CEO\, GRAVITASFormer Associate Principal at McKinsey & Company \nAuthor of new book: GRAVITAS: The 8 Strengths That Redefine Confidence \nFeatured by MSNBC\, Oprah Magazine\, TODAY Show\, People\, Fast Company\, Elle\, Forbes\, CNN\, and more! \n			\n			\n				\n				\n				\n				\n			\n				\n				\n			\n				\n				\n				\n				\n				\n				\n				\n				\n				\n				\n				\n				\n				\n				\n				\n				\n				\n				Thank you to our sponsors!\n			\n			\n				\n				\n				\n				\n			\n				\n				\n				\n				\n				\n				\n				\n				\n				\n				\n				PRESENTING SPONSOR
URL:https://thewomensedge.org/event/2023-top-100-women-led-businesses-in-massachusetts/
LOCATION:Boston Marriott Copley Place\, 110 Huntington Ave\, Boston\, MA\, 02116
CATEGORIES:In-person
ATTACH;FMTTYPE=image/svg+xml:https://thewomensedge.org/wp-content/uploads/2023/02/Top-100-web-TWE-globe.svg
ORGANIZER;CN="Lizzie Dunklee":MAILTO:ldunklee@thewomensedge.org
END:VEVENT
BEGIN:VEVENT
DTSTART;TZID=America/New_York:20231115T173000
DTEND;TZID=America/New_York:20231115T200000
DTSTAMP:20260420T063723
CREATED:20230406T154606Z
LAST-MODIFIED:20231108T205522Z
UID:10000033-1700069400-1700078400@thewomensedge.org
SUMMARY:2023 Extraordinary Women Advancing Healthcare in Massachusetts Awards
DESCRIPTION:The Extraordinary Women Advancing Healthcare (EWAH) in Massachusetts Awards recognize ten outstanding individuals across the Commonwealth for their career achievements\, with a focus on how they influence\, innovate\, and foster diversity through policy\, practice and mentorship.   \nAwards Reception: November 15\, 2023 | 5:30-8:00 PM | PwC\, 101 Seaport Blvd\, Boston\, MA \n			\n			\n				\n				\n				\n				\n			\n				\n				\n			\n				\n				\n				\n				\n				\n				\n				\n				\n				\n				\n				\n				\n				\n				\n				\n				\n				\n				 2023 Extraordinary Women Advancing Healthcare in Massachusetts\n			\n			\n				\n				\n				\n				\n			\n				\n				\n				\n				\n				\n				\n			\n				\n				\n				\n				\n			\n				\n				\n				\n				\n				\n				\n				\n				\n				\n				\n				\n			\n			\n				\n				\n				\n				\n				\n				\n				\n				\n				\n				Christina M. Bailey-Hytholt\, Ph.D.\nAssistant Professor of Chemical EngineeringWorcester Polytechnic Institute \nREAD BIO   \n			\n			\n				\n				\n				\n				\n				\n				\n				\n				\n				\n				\n			\n			\n				\n				\n				\n				\n				\n				\n				\n				\n				\n				Mareshia Donald\, Ph.D.\nDirector\, Chief of Staff to the Chief Human Resources OfficerVertex Pharmaceuticals \nREAD BIO   \n			\n			\n				\n				\n				\n				\n			\n				\n				\n				\n				\n				\n				\n			\n				\n				\n				\n				\n				\n			\n				\n				\n				\n				\n			\n				\n				\n				\n				\n				\n				\n				\n				\n				\n				\n				\n			\n			\n				\n				\n				\n				\n				\n				\n				\n				\n				\n				Dallas M. Ducar MSN\, RN\, PMHNP-BC\, CNL\, FAAN\nCEOTranshealth \nREAD BIO   \n			\n			\n				\n				\n				\n				\n				\n				\n				\n				\n				\n				\n			\n			\n				\n				\n				\n				\n				\n				\n				\n				\n				\n				Naomi Fried\nFounder and CEOPharmStars \nREAD BIO   \n			\n			\n				\n				\n				\n				\n			\n				\n				\n				\n				\n				\n				\n			\n				\n				\n				\n				\n				\n			\n				\n				\n				\n				\n			\n				\n				\n				\n				\n				\n				\n				\n				\n				\n				\n				\n			\n			\n				\n				\n				\n				\n				\n				\n				\n				\n				\n				Erin Nahrgang\, RN\, CCM\nSenior Director ACO Complex Care ManagementBoston Medical Center Health System \nREAD BIO   \n			\n			\n				\n				\n				\n				\n				\n				\n				\n				\n				\n				\n			\n			\n				\n				\n				\n				\n				\n				\n				\n				\n				\n				Kemi Olugemo\, MD\, FAAN\nVP\, Global Clinical DevelopmentUltragenyx Pharmaceutical \nREAD BIO   \n			\n			\n				\n				\n				\n				\n			\n				\n				\n				\n				\n				\n				\n			\n				\n				\n				\n				\n				\n			\n				\n				\n				\n				\n			\n				\n				\n				\n				\n				\n				\n				\n				\n				\n				\n				\n			\n			\n				\n				\n				\n				\n				\n				\n				\n				\n				\n				Kristen Palumbo\, MHCDS\, BSN\, RN\, NE-BC\nChief Operating Officer and Chief Compliance OfficerInnovive Health \nREAD BIO   \n			\n			\n				\n				\n				\n				\n				\n				\n				\n				\n				\n				\n			\n			\n				\n				\n				\n				\n				\n				\n				\n				\n				\n				Viveka Prakash-Zawisza\nSenior Associate Medical DirectorMassHealth \nREAD BIO   \n			\n			\n				\n				\n				\n				\n			\n				\n				\n				\n				\n				\n				\n			\n				\n				\n				\n				\n				\n			\n				\n				\n				\n				\n			\n				\n				\n				\n				\n				\n				\n				\n				\n				\n				\n				\n			\n			\n				\n				\n				\n				\n				\n				\n				\n				\n				\n				Darlene Rodowicz\nPresident & CEOBerkshire Health Systems \nREAD BIO   \n			\n			\n				\n				\n				\n				\n				\n				\n				\n				\n				\n				\n			\n			\n				\n				\n				\n				\n				\n				\n				\n				\n				\n				Sylvia Rosas\nDirector\, Latino Kidney ClinicJoslin Diabetes CenterAssociate Professor of MedicineHarvard Medical School \nREAD BIO   \n			\n			\n				\n				\n				\n				\n			\n				\n				\n				\n				\n				\n				\n			\n				\n				\n				\n				\n			\n				\n				\n			\n				\n				\n				\n				\n				\n				\n				\n				\n				\n				\n				\n				\n				\n				\n				\n				\n				\n				Thank you to our sponsors!
URL:https://thewomensedge.org/event/2023-extraordinary-women-advancing-healthcare-in-massachusetts-awards/
LOCATION:PwC\, 101 Seaport Blvd\, Boston\, MA
CATEGORIES:In-person
ATTACH;FMTTYPE=image/svg+xml:https://thewomensedge.org/wp-content/uploads/2022/05/WE_EWAH_Color.svg
END:VEVENT
BEGIN:VEVENT
DTSTART;TZID=America/New_York:20231127T080000
DTEND;TZID=America/New_York:20231127T150000
DTSTAMP:20260420T063723
CREATED:20230807T163519Z
LAST-MODIFIED:20230807T164041Z
UID:10000045-1701072000-1701097200@thewomensedge.org
SUMMARY:Strategies for Success Day 3 - Massachusetts
DESCRIPTION:
URL:https://thewomensedge.org/event/strategies-for-success-day-3-massachusetts/
LOCATION:The Conference Center at Waltham Woods\, 860 Winter St\, Waltham\, MA\, 02451
CATEGORIES:In-person
ATTACH;FMTTYPE=image/svg+xml:https://thewomensedge.org/wp-content/uploads/2022/05/WE_StrategiesSuccess_Color.svg
END:VEVENT
END:VCALENDAR