BEGIN:VCALENDAR
VERSION:2.0
PRODID:-//The Women&#039;s Edge - ECPv6.15.18//NONSGML v1.0//EN
CALSCALE:GREGORIAN
METHOD:PUBLISH
X-WR-CALNAME:The Women&#039;s Edge
X-ORIGINAL-URL:https://thewomensedge.org
X-WR-CALDESC:Events for The Women&#039;s Edge
REFRESH-INTERVAL;VALUE=DURATION:PT1H
X-Robots-Tag:noindex
X-PUBLISHED-TTL:PT1H
BEGIN:VTIMEZONE
TZID:America/New_York
BEGIN:DAYLIGHT
TZOFFSETFROM:-0500
TZOFFSETTO:-0400
TZNAME:EDT
DTSTART:20220313T070000
END:DAYLIGHT
BEGIN:STANDARD
TZOFFSETFROM:-0400
TZOFFSETTO:-0500
TZNAME:EST
DTSTART:20221106T060000
END:STANDARD
BEGIN:DAYLIGHT
TZOFFSETFROM:-0500
TZOFFSETTO:-0400
TZNAME:EDT
DTSTART:20230312T070000
END:DAYLIGHT
BEGIN:STANDARD
TZOFFSETFROM:-0400
TZOFFSETTO:-0500
TZNAME:EST
DTSTART:20231105T060000
END:STANDARD
BEGIN:DAYLIGHT
TZOFFSETFROM:-0500
TZOFFSETTO:-0400
TZNAME:EDT
DTSTART:20240310T070000
END:DAYLIGHT
BEGIN:STANDARD
TZOFFSETFROM:-0400
TZOFFSETTO:-0500
TZNAME:EST
DTSTART:20241103T060000
END:STANDARD
END:VTIMEZONE
BEGIN:VEVENT
DTSTART;TZID=America/New_York:20230504T120000
DTEND;TZID=America/New_York:20230504T140000
DTSTAMP:20260420T161707
CREATED:20230502T150458Z
LAST-MODIFIED:20230502T150458Z
UID:10000036-1683201600-1683208800@thewomensedge.org
SUMMARY:2023 Top 100 Women-Led Businesses in Florida
DESCRIPTION:Tickets to this event are no longer being sold online. Please contact Naz De La Rosa at ndelarosa@thewomensedge.org for ticket information.\nThe Women’s Edge is pleased to announce the 2023 edition of the Top 100 Women-Led Businesses in Florida list. \nThe ranked list will be revealed at our awards luncheon on Thursday\, May 4\, 2023 at the Signature Grand in Davie\, FL. Registration and Networking will begin at 11:30AM followed by the Awards Luncheon at 12:00PM. \nThank you to our sponsors! \n \n			\n			\n				\n				\n				\n				\n			\n				\n				\n				\n				\n				\n				\n				\n				\n				\n				\n				\n				\n				\n					\n                \n				\n				\n				\n				\n				\n				\n				\n					Learn More
URL:https://thewomensedge.org/event/2023-top-100-women-led-businesses-in-florida/
LOCATION:Signature Grand\, 6900 W. State Road 84\, Davie\, Florida\, 33317
CATEGORIES:In-person
ATTACH;FMTTYPE=image/svg+xml:https://thewomensedge.org/wp-content/uploads/2022/12/Top-100-FL-Web-Ft-Image.svg
END:VEVENT
BEGIN:VEVENT
DTSTART;TZID=America/New_York:20230517T173000
DTEND;TZID=America/New_York:20230517T193000
DTSTAMP:20260420T161707
CREATED:20230410T184714Z
LAST-MODIFIED:20230426T203853Z
UID:10000034-1684344600-1684351800@thewomensedge.org
SUMMARY:Strategies for Success Grad Reception
DESCRIPTION:Join fellow Strategies for Success graduates\, facilitators\, and mentors for an in-person networking reception following the conclusion of our Spring 2023 program!  Please RSVP below.
URL:https://thewomensedge.org/event/strategies-for-success-grad-reception/
LOCATION:Microsoft New England Research and Development Center\, 1 Memorial Dr\, Cambridge\, MA\, 02142
CATEGORIES:In-person
ORGANIZER;CN="Lizzie Dunklee":MAILTO:ldunklee@thewomensedge.org
END:VEVENT
END:VCALENDAR